BEGIN:VCALENDAR
VERSION:2.0
PRODID:-//Universiti Sains Islam Malaysia - ECPv5.16.3.1//NONSGML v1.0//EN
CALSCALE:GREGORIAN
METHOD:PUBLISH
X-WR-CALNAME:Universiti Sains Islam Malaysia
X-ORIGINAL-URL:https://www.usim.edu.my/ms/
X-WR-CALDESC:Events for Universiti Sains Islam Malaysia
BEGIN:VTIMEZONE
TZID:UTC
BEGIN:STANDARD
TZOFFSETFROM:+0000
TZOFFSETTO:+0000
TZNAME:UTC
DTSTART:20220101T000000
END:STANDARD
END:VTIMEZONE
BEGIN:VEVENT
DTSTART;TZID=UTC:20220930T080000
DTEND;TZID=UTC:20220930T100000
DTSTAMP:20260426T030051
CREATED:20220923T030843Z
LAST-MODIFIED:20220927T092313Z
UID:72214-1664524800-1664532000@www.usim.edu.my
SUMMARY:Majlis Penutup Changemaker Leadership Program For Senior Administrators (CLAPSA)
DESCRIPTION:
URL:https://www.usim.edu.my/ms/event/majlis-penutup-changemaker-leadership-program-for-senior-administrators-clapsa/
LOCATION:Nilai Spring Hotel & Resort
CATEGORIES:Staff
END:VEVENT
END:VCALENDAR