BEGIN:VCALENDAR
VERSION:2.0
PRODID:-//Universiti Sains Islam Malaysia - ECPv5.16.3.1//NONSGML v1.0//EN
CALSCALE:GREGORIAN
METHOD:PUBLISH
X-WR-CALNAME:Universiti Sains Islam Malaysia
X-ORIGINAL-URL:https://www.usim.edu.my/ms/
X-WR-CALDESC:Events for Universiti Sains Islam Malaysia
BEGIN:VTIMEZONE
TZID:Asia/Kuala_Lumpur
BEGIN:STANDARD
TZOFFSETFROM:+0800
TZOFFSETTO:+0800
TZNAME:+08
DTSTART:20220101T000000
END:STANDARD
END:VTIMEZONE
BEGIN:VEVENT
DTSTART;TZID=Asia/Kuala_Lumpur:20220615T140000
DTEND;TZID=Asia/Kuala_Lumpur:20220615T170000
DTSTAMP:20260422T053511
CREATED:20220613T003836Z
LAST-MODIFIED:20220613T003917Z
UID:67867-1655301600-1655312400@www.usim.edu.my
SUMMARY:Majlis Penyerahan Baucer Diskaun Richiamo Coffee
DESCRIPTION:TETAMU KEHORMAT / PERASMI\n:\nTuan Haji Mohd Nazree bin Mohd Yunus
URL:https://www.usim.edu.my/ms/event/majlis-penyerahan-baucer-diskaun-richiamo-coffee/
LOCATION:Galeri\, Bangunan Canselori
CATEGORIES:Staff,Student
END:VEVENT
END:VCALENDAR