BEGIN:VCALENDAR
VERSION:2.0
PRODID:-//Universiti Sains Islam Malaysia - ECPv5.16.3.1//NONSGML v1.0//EN
CALSCALE:GREGORIAN
METHOD:PUBLISH
X-WR-CALNAME:Universiti Sains Islam Malaysia
X-ORIGINAL-URL:https://www.usim.edu.my/ms/
X-WR-CALDESC:Events for Universiti Sains Islam Malaysia
BEGIN:VTIMEZONE
TZID:Asia/Kuala_Lumpur
BEGIN:STANDARD
TZOFFSETFROM:+0800
TZOFFSETTO:+0800
TZNAME:+08
DTSTART:20220101T000000
END:STANDARD
END:VTIMEZONE
BEGIN:VEVENT
DTSTART;TZID=Asia/Kuala_Lumpur:20220525T163000
DTEND;TZID=Asia/Kuala_Lumpur:20220525T170000
DTSTAMP:20260424T024049
CREATED:20220523T043021Z
LAST-MODIFIED:20220523T043144Z
UID:67698-1653496200-1653498000@www.usim.edu.my
SUMMARY:Majlis Penyerahan Bendera sempena Kejohanan Golf Universiti Awam Kali Ke-49/2022
DESCRIPTION:TETAMU KEHORMAT / PERASMI\n:\nYBhg. Profesor Ts. Dr. Sharifudin Md Shaarani\, menjalankan fungsi Naib Canselor
URL:https://www.usim.edu.my/ms/event/majlis-penyerahan-bendera-sempena-kejohanan-golf-universiti-awam-kali-ke-49-2022/
LOCATION:Lobi\, Canselori
CATEGORIES:Staff,Student
END:VEVENT
END:VCALENDAR