BEGIN:VCALENDAR
VERSION:2.0
PRODID:-//Universiti Sains Islam Malaysia - ECPv5.16.3.1//NONSGML v1.0//EN
CALSCALE:GREGORIAN
METHOD:PUBLISH
X-WR-CALNAME:Universiti Sains Islam Malaysia
X-ORIGINAL-URL:https://www.usim.edu.my/ms/
X-WR-CALDESC:Events for Universiti Sains Islam Malaysia
BEGIN:VTIMEZONE
TZID:UTC
BEGIN:STANDARD
TZOFFSETFROM:+0000
TZOFFSETTO:+0000
TZNAME:UTC
DTSTART:20220101T000000
END:STANDARD
END:VTIMEZONE
BEGIN:VEVENT
DTSTART;TZID=UTC:20221021T103000
DTEND;TZID=UTC:20221021T113000
DTSTAMP:20260426T084136
CREATED:20221018T045308Z
LAST-MODIFIED:20221018T045337Z
UID:72701-1666348200-1666351800@www.usim.edu.my
SUMMARY:Majlis Penyerahan Perantisiswa Keluarga Malaysia Peringkat USIM
DESCRIPTION:Tetamu Kehormat: YB Datuk Dr. Haji Abdul Latiff Ahmad\, Menteri Di Jabatan Perdana Menteri (Tugas-Tugas Khas)
URL:https://www.usim.edu.my/ms/event/majlis-penyerahan-perantisiswa-keluarga-malaysia-peringkat-usim/
LOCATION:Dewan Kuliah Pusat 3\, USIM
CATEGORIES:Staff
END:VEVENT
END:VCALENDAR