BEGIN:VCALENDAR
VERSION:2.0
PRODID:-//Universiti Sains Islam Malaysia - ECPv5.16.3.1//NONSGML v1.0//EN
CALSCALE:GREGORIAN
METHOD:PUBLISH
X-WR-CALNAME:Universiti Sains Islam Malaysia
X-ORIGINAL-URL:https://www.usim.edu.my/ms/
X-WR-CALDESC:Events for Universiti Sains Islam Malaysia
BEGIN:VTIMEZONE
TZID:Asia/Kuala_Lumpur
BEGIN:STANDARD
TZOFFSETFROM:+0800
TZOFFSETTO:+0800
TZNAME:+08
DTSTART:20220101T000000
END:STANDARD
END:VTIMEZONE
BEGIN:VEVENT
DTSTART;TZID=Asia/Kuala_Lumpur:20220211T090000
DTEND;TZID=Asia/Kuala_Lumpur:20220211T110000
DTSTAMP:20260424T090331
CREATED:20220128T083128Z
LAST-MODIFIED:20220128T083155Z
UID:66183-1644570000-1644577200@www.usim.edu.my
SUMMARY:Majlis Penyerahan Sumbangan Al-Abrar
DESCRIPTION:
URL:https://www.usim.edu.my/ms/event/majlis-penyerahan-sumbangan-al-abrar/
LOCATION:GALERI CANSELORI\, BANGUNAN CANSELORI
CATEGORIES:Administration,Staff
END:VEVENT
END:VCALENDAR