BEGIN:VCALENDAR
VERSION:2.0
PRODID:-//Universiti Sains Islam Malaysia - ECPv5.16.3.1//NONSGML v1.0//EN
CALSCALE:GREGORIAN
METHOD:PUBLISH
X-WR-CALNAME:Universiti Sains Islam Malaysia
X-ORIGINAL-URL:https://www.usim.edu.my/ms/
X-WR-CALDESC:Events for Universiti Sains Islam Malaysia
BEGIN:VTIMEZONE
TZID:Asia/Kuala_Lumpur
BEGIN:STANDARD
TZOFFSETFROM:+0800
TZOFFSETTO:+0800
TZNAME:+08
DTSTART:20220101T000000
END:STANDARD
END:VTIMEZONE
BEGIN:VEVENT
DTSTART;TZID=Asia/Kuala_Lumpur:20220401T090000
DTEND;TZID=Asia/Kuala_Lumpur:20220401T120000
DTSTAMP:20260424T023921
CREATED:20220329T015728Z
LAST-MODIFIED:20220329T015757Z
UID:67245-1648803600-1648814400@www.usim.edu.my
SUMMARY:MAJLIS PENYERAHAN SUMBANGAN RAMADHAN AL-ABRAR SIRI 1
DESCRIPTION:TETAMU KEHORMAT / PERASMI\n:\nYBHG. DATO’ DR. MASHITAH IBRAHIM
URL:https://www.usim.edu.my/ms/event/majlis-penyerahan-sumbangan-ramadhan-al-abrar-siri-1/
LOCATION:DKU FPQS\,USIM
CATEGORIES:Academic,Administration,Staff,Student
END:VEVENT
END:VCALENDAR