BEGIN:VCALENDAR
VERSION:2.0
PRODID:-//Universiti Sains Islam Malaysia - ECPv5.16.3.1//NONSGML v1.0//EN
CALSCALE:GREGORIAN
METHOD:PUBLISH
X-WR-CALNAME:Universiti Sains Islam Malaysia
X-ORIGINAL-URL:https://www.usim.edu.my/ms/
X-WR-CALDESC:Events for Universiti Sains Islam Malaysia
BEGIN:VTIMEZONE
TZID:UTC
BEGIN:STANDARD
TZOFFSETFROM:+0000
TZOFFSETTO:+0000
TZNAME:UTC
DTSTART:20220101T000000
END:STANDARD
END:VTIMEZONE
BEGIN:VEVENT
DTSTART;TZID=UTC:20220829T083000
DTEND;TZID=UTC:20220829T130000
DTSTAMP:20260422T165452
CREATED:20220830T012222Z
LAST-MODIFIED:20220830T012245Z
UID:71259-1661761800-1661778000@www.usim.edu.my
SUMMARY:Majlis Perasmian Konvensyen Latihan Islam Peringkat Kebangsaan Kali Ke-5 Dan Pelancaran Aplikasi Glosari Bahasa Isyarat Islam (i-SIGN) Bagi Komuniti OKU Pendengaran
DESCRIPTION:
URL:https://www.usim.edu.my/ms/event/majlis-perasmian-konvensyen-latihan-islam-peringkat-kebangsaan-kali-ke-5-dan-pelancaran-aplikasi-glosari-bahasa-isyarat-islam-i-sign-bagi-komuniti-oku-pendengaran-2/
LOCATION:Dewan Datuk Mohd Shahir\, Institut Latihan Islam Malaysia\, Bangi
CATEGORIES:Staff
END:VEVENT
END:VCALENDAR