BEGIN:VCALENDAR
VERSION:2.0
PRODID:-//Universiti Sains Islam Malaysia - ECPv5.16.3.1//NONSGML v1.0//EN
CALSCALE:GREGORIAN
METHOD:PUBLISH
X-WR-CALNAME:Universiti Sains Islam Malaysia
X-ORIGINAL-URL:https://www.usim.edu.my/ms/
X-WR-CALDESC:Events for Universiti Sains Islam Malaysia
BEGIN:VTIMEZONE
TZID:UTC
BEGIN:STANDARD
TZOFFSETFROM:+0000
TZOFFSETTO:+0000
TZNAME:UTC
DTSTART:20240101T000000
END:STANDARD
END:VTIMEZONE
BEGIN:VEVENT
DTSTART;TZID=UTC:20241109T083000
DTEND;TZID=UTC:20241109T100000
DTSTAMP:20260420T102008
CREATED:20241107T080016Z
LAST-MODIFIED:20241107T080238Z
UID:99115-1731141000-1731146400@www.usim.edu.my
SUMMARY:Majlis Perasmian Negeri Sembilan Amputee Football Outreach Program
DESCRIPTION:
URL:https://www.usim.edu.my/ms/event/majlis-perasmian-negeri-sembilan-amputee-football-outreach-program/
LOCATION:Kompleks Sukan Tunku Najihah USIM
CATEGORIES:Staff,Student
END:VEVENT
END:VCALENDAR