BEGIN:VCALENDAR
VERSION:2.0
PRODID:-//Universiti Sains Islam Malaysia - ECPv5.16.3.1//NONSGML v1.0//EN
CALSCALE:GREGORIAN
METHOD:PUBLISH
X-WR-CALNAME:Universiti Sains Islam Malaysia
X-ORIGINAL-URL:https://www.usim.edu.my/ms/
X-WR-CALDESC:Events for Universiti Sains Islam Malaysia
BEGIN:VTIMEZONE
TZID:UTC
BEGIN:STANDARD
TZOFFSETFROM:+0000
TZOFFSETTO:+0000
TZNAME:UTC
DTSTART:20230101T000000
END:STANDARD
END:VTIMEZONE
BEGIN:VEVENT
DTSTART;TZID=UTC:20230308T160000
DTEND;TZID=UTC:20230308T173000
DTSTAMP:20260420T002531
CREATED:20230228T013511Z
LAST-MODIFIED:20230228T013545Z
UID:76963-1678291200-1678296600@www.usim.edu.my
SUMMARY:Majlis Perasmian Penutup Program Simposium Amalan Terbaik Perawatan Pusat Pemulihan Dadah Persendirian (PPDP) Islam 2023
DESCRIPTION:
URL:https://www.usim.edu.my/ms/event/majlis-perasmian-penutup-program-simposium-amalan-terbaik-perawatan-pusat-pemulihan-dadah-persendirian-ppdp-islam-2023/
LOCATION:ILIM\, BANGI
CATEGORIES:Staff
END:VEVENT
END:VCALENDAR