BEGIN:VCALENDAR
VERSION:2.0
PRODID:-//Universiti Sains Islam Malaysia - ECPv5.16.3.1//NONSGML v1.0//EN
CALSCALE:GREGORIAN
METHOD:PUBLISH
X-WR-CALNAME:Universiti Sains Islam Malaysia
X-ORIGINAL-URL:https://www.usim.edu.my/ms/
X-WR-CALDESC:Events for Universiti Sains Islam Malaysia
BEGIN:VTIMEZONE
TZID:UTC
BEGIN:STANDARD
TZOFFSETFROM:+0000
TZOFFSETTO:+0000
TZNAME:UTC
DTSTART:20220101T000000
END:STANDARD
END:VTIMEZONE
BEGIN:VEVENT
DTSTART;TZID=UTC:20220930T090000
DTEND;TZID=UTC:20220930T113000
DTSTAMP:20260426T031058
CREATED:20220815T064223Z
LAST-MODIFIED:20220923T021359Z
UID:69537-1664528400-1664537400@www.usim.edu.my
SUMMARY:Majlis Perasmian Penutupan Sambutan Bulan Kebangsaan 2022
DESCRIPTION:TETAMU KEHORMAT / PERASMI\n:\nPENGERUSI LEMBAGA PENGARAH UNIVERSITI
URL:https://www.usim.edu.my/ms/event/majlis-perasmian-penutupan-sambutan-bulan-kebangsaan-2022/
LOCATION:Dewan Kuliah Pusat 3 (DKP3)
CATEGORIES:Staff
END:VEVENT
END:VCALENDAR