BEGIN:VCALENDAR
VERSION:2.0
PRODID:-//Universiti Sains Islam Malaysia - ECPv5.16.3.1//NONSGML v1.0//EN
CALSCALE:GREGORIAN
METHOD:PUBLISH
X-WR-CALNAME:Universiti Sains Islam Malaysia
X-ORIGINAL-URL:https://www.usim.edu.my/ms/
X-WR-CALDESC:Events for Universiti Sains Islam Malaysia
BEGIN:VTIMEZONE
TZID:Asia/Kuala_Lumpur
BEGIN:STANDARD
TZOFFSETFROM:+0800
TZOFFSETTO:+0800
TZNAME:+08
DTSTART:20220101T000000
END:STANDARD
END:VTIMEZONE
BEGIN:VEVENT
DTSTART;TZID=Asia/Kuala_Lumpur:20220524T200000
DTEND;TZID=Asia/Kuala_Lumpur:20220524T233000
DTSTAMP:20260424T005448
CREATED:20220519T061457Z
LAST-MODIFIED:20220519T061516Z
UID:67646-1653422400-1653435000@www.usim.edu.my
SUMMARY:Malam Perdana Siswa KK1 2022
DESCRIPTION:TETAMU KEHORMAT / PERASMI: Pengerusi LPU
URL:https://www.usim.edu.my/ms/event/malam-perdana-siswa-kk1-2022/
LOCATION:DTC USIM
CATEGORIES:Academic,Staff,Student
END:VEVENT
END:VCALENDAR