BEGIN:VCALENDAR
VERSION:2.0
PRODID:-//Universiti Sains Islam Malaysia - ECPv5.16.3.1//NONSGML v1.0//EN
CALSCALE:GREGORIAN
METHOD:PUBLISH
X-WR-CALNAME:Universiti Sains Islam Malaysia
X-ORIGINAL-URL:https://www.usim.edu.my/ms/
X-WR-CALDESC:Events for Universiti Sains Islam Malaysia
BEGIN:VTIMEZONE
TZID:Asia/Kuala_Lumpur
BEGIN:STANDARD
TZOFFSETFROM:+0800
TZOFFSETTO:+0800
TZNAME:+08
DTSTART:20220101T000000
END:STANDARD
END:VTIMEZONE
BEGIN:VEVENT
DTSTART;TZID=Asia/Kuala_Lumpur:20220620T170000
DTEND;TZID=Asia/Kuala_Lumpur:20220620T190000
DTSTAMP:20260422T042007
CREATED:20220620T063931Z
LAST-MODIFIED:20220620T063953Z
UID:67999-1655744400-1655751600@www.usim.edu.my
SUMMARY:Perlawanan Akhir Liga Bola Sepak Fakulti USIM 2022 dan Penyampaian Hadiah
DESCRIPTION:
URL:https://www.usim.edu.my/ms/event/perlawanan-akhir-liga-bola-sepak-fakulti-usim-2022-dan-penyampaian-hadiah/
LOCATION:KOMPLEKS SUKAN TUNKU NAJIHAH
CATEGORIES:Staff,Student
END:VEVENT
END:VCALENDAR