BEGIN:VCALENDAR
VERSION:2.0
PRODID:-//Universiti Sains Islam Malaysia - ECPv5.16.3.1//NONSGML v1.0//EN
CALSCALE:GREGORIAN
METHOD:PUBLISH
X-WR-CALNAME:Universiti Sains Islam Malaysia
X-ORIGINAL-URL:https://www.usim.edu.my/ms/
X-WR-CALDESC:Events for Universiti Sains Islam Malaysia
BEGIN:VTIMEZONE
TZID:Asia/Kuala_Lumpur
BEGIN:STANDARD
TZOFFSETFROM:+0800
TZOFFSETTO:+0800
TZNAME:+08
DTSTART:20220101T000000
END:STANDARD
END:VTIMEZONE
BEGIN:VEVENT
DTSTART;TZID=Asia/Kuala_Lumpur:20220622T100000
DTEND;TZID=Asia/Kuala_Lumpur:20220622T130000
DTSTAMP:20260422T042027
CREATED:20220621T005223Z
LAST-MODIFIED:20220621T005741Z
UID:68008-1655892000-1655902800@www.usim.edu.my
SUMMARY:PERTEMUAN DENGAN SAITO YUKIYOSHI JAPANESE EMBASSY
DESCRIPTION:TETAMU KEHORMAT / PERASMI\n:\nSAITO YUKIYOSHI JAPANESE EMBASSY
URL:https://www.usim.edu.my/ms/event/pertemuan-dengan-saito-yukiyoshi-japanese-embassy/
LOCATION:BILIK MESY. NAIB CANSELOR
CATEGORIES:Staff
END:VEVENT
END:VCALENDAR