BEGIN:VCALENDAR
VERSION:2.0
PRODID:-//Universiti Sains Islam Malaysia - ECPv5.16.3.1//NONSGML v1.0//EN
CALSCALE:GREGORIAN
METHOD:PUBLISH
X-WR-CALNAME:Universiti Sains Islam Malaysia
X-ORIGINAL-URL:https://www.usim.edu.my/ms/
X-WR-CALDESC:Events for Universiti Sains Islam Malaysia
BEGIN:VTIMEZONE
TZID:UTC
BEGIN:STANDARD
TZOFFSETFROM:+0000
TZOFFSETTO:+0000
TZNAME:UTC
DTSTART:20220101T000000
END:STANDARD
END:VTIMEZONE
BEGIN:VEVENT
DTSTART;TZID=UTC:20221008T080000
DTEND;TZID=UTC:20221008T130000
DTSTAMP:20260425T235339
CREATED:20221003T031926Z
LAST-MODIFIED:20221003T032011Z
UID:72301-1665216000-1665234000@www.usim.edu.my
SUMMARY:Pertemuan Naib Canselor USIM Bersama Ketua Polis Negara
DESCRIPTION:
URL:https://www.usim.edu.my/ms/event/pertemuan-naib-canselor-usim-bersama-ketua-polis-negara/
LOCATION:Kompleks Sukan Tuanku Najihah
CATEGORIES:Staff
END:VEVENT
END:VCALENDAR