BEGIN:VCALENDAR
VERSION:2.0
PRODID:-//Universiti Sains Islam Malaysia - ECPv5.16.3.1//NONSGML v1.0//EN
CALSCALE:GREGORIAN
METHOD:PUBLISH
X-WR-CALNAME:Universiti Sains Islam Malaysia
X-ORIGINAL-URL:https://www.usim.edu.my/ms/
X-WR-CALDESC:Events for Universiti Sains Islam Malaysia
BEGIN:VTIMEZONE
TZID:UTC
BEGIN:STANDARD
TZOFFSETFROM:+0000
TZOFFSETTO:+0000
TZNAME:UTC
DTSTART:20220101T000000
END:STANDARD
END:VTIMEZONE
BEGIN:VEVENT
DTSTART;TZID=UTC:20221008T083000
DTEND;TZID=UTC:20221008T160000
DTSTAMP:20260426T033356
CREATED:20220930T082001Z
LAST-MODIFIED:20220930T082031Z
UID:72276-1665217800-1665244800@www.usim.edu.my
SUMMARY:Program KPT Prihatin Komuniti Sejahtera (KRIS) Sempena Jelajah Aspirasi Keluarga Malaysia (JAKM) Peringkat Negeri Sembilan
DESCRIPTION:
URL:https://www.usim.edu.my/ms/event/program-kpt-prihatin-komuniti-sejahtera-kris-sempena-jelajah-aspirasi-keluarga-malaysia-jakm-peringkat-negeri-sembilan/
LOCATION:DEWAN ORANG RAMAI KAMPUNG ORANG ASLI PANCHOR\, NEGERI SEMBILAN
CATEGORIES:Staff
END:VEVENT
END:VCALENDAR