BEGIN:VCALENDAR
VERSION:2.0
PRODID:-//Universiti Sains Islam Malaysia - ECPv5.16.3.1//NONSGML v1.0//EN
CALSCALE:GREGORIAN
METHOD:PUBLISH
X-WR-CALNAME:Universiti Sains Islam Malaysia
X-ORIGINAL-URL:https://www.usim.edu.my/ms/
X-WR-CALDESC:Events for Universiti Sains Islam Malaysia
BEGIN:VTIMEZONE
TZID:UTC
BEGIN:STANDARD
TZOFFSETFROM:+0000
TZOFFSETTO:+0000
TZNAME:UTC
DTSTART:20240101T000000
END:STANDARD
END:VTIMEZONE
BEGIN:VEVENT
DTSTART;TZID=UTC:20240624T090000
DTEND;TZID=UTC:20240624T130000
DTSTAMP:20260422T215202
CREATED:20240620T024640Z
LAST-MODIFIED:20240620T024908Z
UID:97043-1719219600-1719234000@www.usim.edu.my
SUMMARY:Sesi Lawatan Delegasi KPT Dan JPA Ke Fakulti Pergigian
DESCRIPTION:
URL:https://www.usim.edu.my/ms/event/sesi-lawatan-delegasi-kpt-dan-jpa-ke-fakulti-pergigian/
LOCATION:FAKULTI PERGIGIAN USIM
CATEGORIES:Staff
END:VEVENT
END:VCALENDAR