BEGIN:VCALENDAR
VERSION:2.0
PRODID:-//Universiti Sains Islam Malaysia - ECPv5.16.3.1//NONSGML v1.0//EN
CALSCALE:GREGORIAN
METHOD:PUBLISH
X-WR-CALNAME:Universiti Sains Islam Malaysia
X-ORIGINAL-URL:https://www.usim.edu.my/ms/
X-WR-CALDESC:Events for Universiti Sains Islam Malaysia
BEGIN:VTIMEZONE
TZID:UTC
BEGIN:STANDARD
TZOFFSETFROM:+0000
TZOFFSETTO:+0000
TZNAME:UTC
DTSTART:20230101T000000
END:STANDARD
END:VTIMEZONE
BEGIN:VEVENT
DTSTART;TZID=UTC:20230311T083000
DTEND;TZID=UTC:20230311T113000
DTSTAMP:20260422T013052
CREATED:20230303T075652Z
LAST-MODIFIED:20230303T075746Z
UID:77065-1678523400-1678534200@www.usim.edu.my
SUMMARY:Sesi Lawatan USIM Ke UK FARM
DESCRIPTION:
URL:https://www.usim.edu.my/ms/event/sesi-lawatan-usim-ke-uk-farm/
LOCATION:Kluang\, Johor\, Malaysia.
CATEGORIES:Staff
END:VEVENT
END:VCALENDAR