BEGIN:VCALENDAR
VERSION:2.0
PRODID:-//Universiti Sains Islam Malaysia - ECPv5.16.3.1//NONSGML v1.0//EN
CALSCALE:GREGORIAN
METHOD:PUBLISH
X-WR-CALNAME:Universiti Sains Islam Malaysia
X-ORIGINAL-URL:https://www.usim.edu.my/ms/
X-WR-CALDESC:Events for Universiti Sains Islam Malaysia
BEGIN:VTIMEZONE
TZID:UTC
BEGIN:STANDARD
TZOFFSETFROM:+0000
TZOFFSETTO:+0000
TZNAME:UTC
DTSTART:20260101T000000
END:STANDARD
END:VTIMEZONE
BEGIN:VEVENT
DTSTART;TZID=UTC:20260402T141500
DTEND;TZID=UTC:20260402T143000
DTSTAMP:20260420T182923
CREATED:20260413T080747Z
LAST-MODIFIED:20260413T082454Z
UID:126043-1775139300-1775140200@www.usim.edu.my
SUMMARY:Sesi Pertemuan Bersama KPT & KPM Bersempena Bengkel Jawatankuasa Pemandu Penyusunan Tadbir Urus Pendidikan Lepas Menengah KPM Ke KPT Urus Pendidikan Lepas Menengah KPM Ke KPT
DESCRIPTION:
URL:https://www.usim.edu.my/ms/event/sesi-pertemuan-bersama-kpt-kpm-bersempena-bengkel-jawatankuasa-pemandu-penyusunan-tadbir-urus-pendidikan-lepas-menengah-kpm-ke-kpt-urus-pendidikan-lepas-menengah-kpm-ke-kpt/
LOCATION:Holding Room FPBU
CATEGORIES:Staff
END:VEVENT
END:VCALENDAR