BEGIN:VCALENDAR
VERSION:2.0
PRODID:-//Universiti Sains Islam Malaysia - ECPv5.16.3.1//NONSGML v1.0//EN
CALSCALE:GREGORIAN
METHOD:PUBLISH
X-WR-CALNAME:Universiti Sains Islam Malaysia
X-ORIGINAL-URL:https://www.usim.edu.my/ms/
X-WR-CALDESC:Events for Universiti Sains Islam Malaysia
BEGIN:VTIMEZONE
TZID:Asia/Kuala_Lumpur
BEGIN:STANDARD
TZOFFSETFROM:+0800
TZOFFSETTO:+0800
TZNAME:+08
DTSTART:20220101T000000
END:STANDARD
END:VTIMEZONE
BEGIN:VEVENT
DTSTART;TZID=Asia/Kuala_Lumpur:20220617T000000
DTEND;TZID=Asia/Kuala_Lumpur:20220617T000000
DTSTAMP:20260424T003413
CREATED:20220617T071511Z
LAST-MODIFIED:20220617T071603Z
UID:67940-1655424000-1655424000@www.usim.edu.my
SUMMARY:USIM in Solidarity with Palestine
DESCRIPTION:TETAMU KEHORMAT / PERASMI\n:\nYB Senator Datuk Dr. Haji Zulkifli Mohamad Al-Bakri\n\n\n\n  \n  \n  \n 
URL:https://www.usim.edu.my/ms/event/usim-in-solidarity-with-palestine/
CATEGORIES:Staff,Student
END:VEVENT
END:VCALENDAR