BEGIN:VCALENDAR
VERSION:2.0
PRODID:-//Universiti Sains Islam Malaysia - ECPv5.16.3.1//NONSGML v1.0//EN
CALSCALE:GREGORIAN
METHOD:PUBLISH
X-WR-CALNAME:Universiti Sains Islam Malaysia
X-ORIGINAL-URL:https://www.usim.edu.my/ms/
X-WR-CALDESC:Events for Universiti Sains Islam Malaysia
BEGIN:VTIMEZONE
TZID:Asia/Kuala_Lumpur
BEGIN:STANDARD
TZOFFSETFROM:+0800
TZOFFSETTO:+0800
TZNAME:+08
DTSTART:20210101T000000
END:STANDARD
END:VTIMEZONE
BEGIN:VEVENT
DTSTART;TZID=Asia/Kuala_Lumpur:20211214T090000
DTEND;TZID=Asia/Kuala_Lumpur:20211214T120000
DTSTAMP:20260426T035227
CREATED:20211118T075207Z
LAST-MODIFIED:20211118T075250Z
UID:65540-1639472400-1639483200@www.usim.edu.my
SUMMARY:Majlis Pentauliahan Pegawai Bomba Bantuan Siswa USIM
DESCRIPTION:
URL:https://www.usim.edu.my/ms/event/majlis-pentauliahan-pegawai-bomba-bantuan-siswa-usim/
LOCATION:dewan tuanku canselor
CATEGORIES:Faculty,Student
END:VEVENT
END:VCALENDAR