BEGIN:VCALENDAR
VERSION:2.0
PRODID:-//Universiti Sains Islam Malaysia - ECPv5.16.3.1//NONSGML v1.0//EN
CALSCALE:GREGORIAN
METHOD:PUBLISH
X-WR-CALNAME:Universiti Sains Islam Malaysia
X-ORIGINAL-URL:https://www.usim.edu.my/ms/
X-WR-CALDESC:Events for Universiti Sains Islam Malaysia
BEGIN:VTIMEZONE
TZID:UTC
BEGIN:STANDARD
TZOFFSETFROM:+0000
TZOFFSETTO:+0000
TZNAME:UTC
DTSTART:20250101T000000
END:STANDARD
END:VTIMEZONE
BEGIN:VEVENT
DTSTART;TZID=UTC:20250730T080000
DTEND;TZID=UTC:20250730T093000
DTSTAMP:20260424T004516
CREATED:20250728T080433Z
LAST-MODIFIED:20250728T080638Z
UID:119470-1753862400-1753867800@www.usim.edu.my
SUMMARY:Sesi Serahan Ucapan Tahniah Dan Penghargaan Pembangunan Instrumen USIMQUEST Untuk Pengesahan Dan Pengenalpastian Murid Pintar Berbakat
DESCRIPTION:
URL:https://www.usim.edu.my/ms/event/sesi-serahan-ucapan-tahniah-dan-penghargaan-pembangunan-instrumen-usimquest-untuk-pengesahan-dan-pengenalpastian-murid-pintar-berbakat/
LOCATION:PNC
CATEGORIES:Staff
END:VEVENT
BEGIN:VEVENT
DTSTART;TZID=UTC:20250730T140000
DTEND;TZID=UTC:20250730T170000
DTSTAMP:20260424T004516
CREATED:20250728T080801Z
LAST-MODIFIED:20250728T080952Z
UID:119479-1753884000-1753894800@www.usim.edu.my
SUMMARY:Lawatan Kelab Warga Emas Klinik Kesihatan AU 2 ke USIM
DESCRIPTION:
URL:https://www.usim.edu.my/ms/event/lawatan-kelab-warga-emas-klinik-kesihatan-au-2-ke-usim/
LOCATION:RUKNU ARABI PERPUSTAKAAN
CATEGORIES:Staff
END:VEVENT
END:VCALENDAR