BEGIN:VCALENDAR
VERSION:2.0
PRODID:-//Universiti Sains Islam Malaysia - ECPv5.16.3.1//NONSGML v1.0//EN
CALSCALE:GREGORIAN
METHOD:PUBLISH
X-WR-CALNAME:Universiti Sains Islam Malaysia
X-ORIGINAL-URL:https://www.usim.edu.my/zh-hans/
X-WR-CALDESC:Universiti Sains Islam Malaysia的活动
BEGIN:VTIMEZONE
TZID:UTC
BEGIN:STANDARD
TZOFFSETFROM:+0000
TZOFFSETTO:+0000
TZNAME:UTC
DTSTART:20250101T000000
END:STANDARD
END:VTIMEZONE
BEGIN:VEVENT
DTSTART;TZID=UTC:20251009T103000
DTEND;TZID=UTC:20251009T140000
DTSTAMP:20260424T152230
CREATED:20250930T070945Z
LAST-MODIFIED:20250930T071253Z
UID:120987-1760005800-1760018400@www.usim.edu.my
SUMMARY:Majlis Penyerahan Watikah Kg. Angkat Madani - Kg. Sg. Talan\, Kuala Pilah
DESCRIPTION:
URL:https://www.usim.edu.my/zh-hans/event/majlis-penyerahan-watikah-kg-angkat-madani-kg-sg-talan-kuala-pilah/
LOCATION:Kg. Sg. Talan\, Kuala Pilah
CATEGORIES:Staff
END:VEVENT
END:VCALENDAR