BEGIN:VCALENDAR
VERSION:2.0
PRODID:-//Universiti Sains Islam Malaysia - ECPv5.16.3.1//NONSGML v1.0//EN
CALSCALE:GREGORIAN
METHOD:PUBLISH
X-WR-CALNAME:Universiti Sains Islam Malaysia
X-ORIGINAL-URL:https://www.usim.edu.my/zh-hans/
X-WR-CALDESC:Universiti Sains Islam Malaysia的活动
BEGIN:VTIMEZONE
TZID:UTC
BEGIN:STANDARD
TZOFFSETFROM:+0000
TZOFFSETTO:+0000
TZNAME:UTC
DTSTART:20250101T000000
END:STANDARD
END:VTIMEZONE
BEGIN:VEVENT
DTSTART;TZID=UTC:20251008T150000
DTEND;TZID=UTC:20251008T170000
DTSTAMP:20260424T114136
CREATED:20250918T013726Z
LAST-MODIFIED:20250918T014114Z
UID:120611-1759935600-1759942800@www.usim.edu.my
SUMMARY:Majlis Perasmian Persidangan Serantau Manasik Haji 2025
DESCRIPTION:
URL:https://www.usim.edu.my/zh-hans/event/majlis-perasmian-persidangan-serantau-manasik-haji-2025/
LOCATION:DoubleTree Hilton\, Putrajaya
CATEGORIES:Conference / Seminar
END:VEVENT
END:VCALENDAR