BEGIN:VCALENDAR
VERSION:2.0
PRODID:-//Universiti Sains Islam Malaysia - ECPv5.16.3.1//NONSGML v1.0//EN
CALSCALE:GREGORIAN
METHOD:PUBLISH
X-WR-CALNAME:Universiti Sains Islam Malaysia
X-ORIGINAL-URL:https://www.usim.edu.my/zh-hans/
X-WR-CALDESC:Universiti Sains Islam Malaysia的活动
BEGIN:VTIMEZONE
TZID:UTC
BEGIN:STANDARD
TZOFFSETFROM:+0000
TZOFFSETTO:+0000
TZNAME:UTC
DTSTART:20250101T000000
END:STANDARD
END:VTIMEZONE
BEGIN:VEVENT
DTSTART;TZID=UTC:20250918T100000
DTEND;TZID=UTC:20250918T120000
DTSTAMP:20260420T002507
CREATED:20250912T074504Z
LAST-MODIFIED:20250918T001604Z
UID:120415-1758189600-1758196800@www.usim.edu.my
SUMMARY:Majlis Pemakaian Pangkat Komanda Kor Suksis USIM
DESCRIPTION:
URL:https://www.usim.edu.my/zh-hans/event/majlis-pemakaian-pangkat-komanda-kor-suksis-usim/
LOCATION:Ibu Pejabat Polis Kontinjen Negeri Sembilan
CATEGORIES:Academic,Student
END:VEVENT
END:VCALENDAR